BEGIN:VCALENDAR
VERSION:2.0
PRODID:-//New Paradigm Navigators - ECPv6.15.18//NONSGML v1.0//EN
CALSCALE:GREGORIAN
METHOD:PUBLISH
X-ORIGINAL-URL:https://newparadigmnavigators.community
X-WR-CALDESC:Events for New Paradigm Navigators
REFRESH-INTERVAL;VALUE=DURATION:PT1H
X-Robots-Tag:noindex
X-PUBLISHED-TTL:PT1H
BEGIN:VTIMEZONE
TZID:Europe/London
BEGIN:DAYLIGHT
TZOFFSETFROM:+0000
TZOFFSETTO:+0100
TZNAME:BST
DTSTART:20230326T010000
END:DAYLIGHT
BEGIN:STANDARD
TZOFFSETFROM:+0100
TZOFFSETTO:+0000
TZNAME:GMT
DTSTART:20231029T010000
END:STANDARD
BEGIN:DAYLIGHT
TZOFFSETFROM:+0000
TZOFFSETTO:+0100
TZNAME:BST
DTSTART:20240331T010000
END:DAYLIGHT
BEGIN:STANDARD
TZOFFSETFROM:+0100
TZOFFSETTO:+0000
TZNAME:GMT
DTSTART:20241027T010000
END:STANDARD
BEGIN:DAYLIGHT
TZOFFSETFROM:+0000
TZOFFSETTO:+0100
TZNAME:BST
DTSTART:20250330T010000
END:DAYLIGHT
BEGIN:STANDARD
TZOFFSETFROM:+0100
TZOFFSETTO:+0000
TZNAME:GMT
DTSTART:20251026T010000
END:STANDARD
BEGIN:DAYLIGHT
TZOFFSETFROM:+0000
TZOFFSETTO:+0100
TZNAME:BST
DTSTART:20260329T010000
END:DAYLIGHT
BEGIN:STANDARD
TZOFFSETFROM:+0100
TZOFFSETTO:+0000
TZNAME:GMT
DTSTART:20261025T010000
END:STANDARD
END:VTIMEZONE
BEGIN:VEVENT
DTSTART;TZID=Europe/London:20250318T190000
DTEND;TZID=Europe/London:20250318T203000
DTSTAMP:20260425T154812
CREATED:20241003T163309Z
LAST-MODIFIED:20250318T192023Z
UID:1442-1742324400-1742329800@newparadigmnavigators.community
SUMMARY:March Salon 2025
DESCRIPTION:Join us for our monthly salon this March! Topic is Envisioning the Season Ahead. \n\n\n\nTo honor this liminal moment of The Spring Equinox\, we invite you (the NPN community) to join us tomorrow for a participatory exploration of where we stand\, what we are weaving\, and how we can step into the next season with soul-aligned clarity. \n\n\n\nThis salon will not be recorded. \n\n\n\nThe New Paradigm Navigators monthly salon occurs every third Tuesday of the month\, at 7:00 PM UK time. \n\n\n\nRSVP for the Zoom link!
URL:https://newparadigmnavigators.community/event/march-salon-2025/
CATEGORIES:Salon
ATTACH;FMTTYPE=image/webp:https://newparadigmnavigators.community/wp-content/uploads/2024/07/DALL·E-2024-07-27-14.22.29-A-16_9-landscape-image-capturing-the-feeling-of-a-yoga_wellness-circle-a-gathering-of-soulful-people-connecting-deeply-with-themselves-and-the-univ.webp
END:VEVENT
BEGIN:VEVENT
DTSTART;TZID=Europe/London:20250218T190000
DTEND;TZID=Europe/London:20250218T203000
DTSTAMP:20260425T154812
CREATED:20241003T163115Z
LAST-MODIFIED:20250318T192028Z
UID:1439-1739905200-1739910600@newparadigmnavigators.community
SUMMARY:February Salon 2025
DESCRIPTION:Join us for our monthly salon this February! Topics and guest TBD. This is a great opportunity to explore profound insights\, share your perspectives\, and connect with like-minded individuals in our community! Whether familiar with the topic or not\, there will be something valuable for everyone. We really want to hear from you! \n\n\n\nSalons will not be recorded. \n\n\n\nThe New Paradigm Navigators monthly salon occurs every third Tuesday of the month\, at 7:00 PM UK time. \n\n\n\nRSVP for the Zoom link!
URL:https://newparadigmnavigators.community/event/february-salon-2025/
CATEGORIES:Salon
ATTACH;FMTTYPE=image/webp:https://newparadigmnavigators.community/wp-content/uploads/2024/07/DALL·E-2024-07-27-14.22.29-A-16_9-landscape-image-capturing-the-feeling-of-a-yoga_wellness-circle-a-gathering-of-soulful-people-connecting-deeply-with-themselves-and-the-univ.webp
END:VEVENT
BEGIN:VEVENT
DTSTART;TZID=Europe/London:20250121T190000
DTEND;TZID=Europe/London:20250121T203000
DTSTAMP:20260425T154812
CREATED:20241003T163033Z
LAST-MODIFIED:20250318T192033Z
UID:1436-1737486000-1737491400@newparadigmnavigators.community
SUMMARY:January Salon 2025
DESCRIPTION:Join us for our monthly salon this November! Topics and guest TBD. This is a great opportunity to explore profound insights\, share your perspectives\, and connect with like-minded individuals in our community! Whether familiar with the topic or not\, there will be something valuable for everyone. We really want to hear from you! \n\n\n\nThe New Paradigm Navigators monthly salon occurs every third Tuesday of the month\, at 7:00 PM UK time. \n\n\n\nRSVP for the Zoom link!
URL:https://newparadigmnavigators.community/event/january-salon-2025/
CATEGORIES:Salon
ATTACH;FMTTYPE=image/webp:https://newparadigmnavigators.community/wp-content/uploads/2024/07/DALL·E-2024-07-27-14.22.29-A-16_9-landscape-image-capturing-the-feeling-of-a-yoga_wellness-circle-a-gathering-of-soulful-people-connecting-deeply-with-themselves-and-the-univ.webp
END:VEVENT
BEGIN:VEVENT
DTSTART;TZID=Europe/London:20241217T190000
DTEND;TZID=Europe/London:20241217T203000
DTSTAMP:20260425T154812
CREATED:20241003T162944Z
LAST-MODIFIED:20250318T192037Z
UID:1433-1734462000-1734467400@newparadigmnavigators.community
SUMMARY:December Salon
DESCRIPTION:Join us for our monthly salon this December! Topics and guest TBD. This is a great opportunity to explore profound insights\, share your perspectives\, and connect with like-minded individuals in our community! Whether familiar with the topic or not\, there will be something valuable for everyone. We really want to hear from you! \n\n\n\nThe New Paradigm Navigators monthly salon occurs every third Tuesday of the month\, at 7:00 PM UK time. \n\n\n\nRSVP for the Zoom link!
URL:https://newparadigmnavigators.community/event/december-salon/
CATEGORIES:Salon
ATTACH;FMTTYPE=image/webp:https://newparadigmnavigators.community/wp-content/uploads/2024/07/DALL·E-2024-07-27-14.22.29-A-16_9-landscape-image-capturing-the-feeling-of-a-yoga_wellness-circle-a-gathering-of-soulful-people-connecting-deeply-with-themselves-and-the-univ.webp
END:VEVENT
BEGIN:VEVENT
DTSTART;TZID=Europe/London:20241119T190000
DTEND;TZID=Europe/London:20241119T203000
DTSTAMP:20260425T154812
CREATED:20241003T162756Z
LAST-MODIFIED:20241003T163145Z
UID:1429-1732042800-1732048200@newparadigmnavigators.community
SUMMARY:November Salon
DESCRIPTION:Join us for our monthly salon this November! Topics and guest TBD. This is a great opportunity to explore profound insights\, share your perspectives\, and connect with like-minded individuals in our community! Whether familiar with the topic or not\, there will be something valuable for everyone. We really want to hear from you! \n\n\n\nThe New Paradigm Navigators monthly salon occurs every third Tuesday of the month\, at 7:00 PM UK time. \n\n\n\nRSVP for the Zoom link!
URL:https://newparadigmnavigators.community/event/november-salon/
CATEGORIES:Salon
ATTACH;FMTTYPE=image/webp:https://newparadigmnavigators.community/wp-content/uploads/2024/07/DALL·E-2024-07-27-14.22.29-A-16_9-landscape-image-capturing-the-feeling-of-a-yoga_wellness-circle-a-gathering-of-soulful-people-connecting-deeply-with-themselves-and-the-univ.webp
END:VEVENT
BEGIN:VEVENT
DTSTART;TZID=Europe/London:20241015T190000
DTEND;TZID=Europe/London:20241015T203000
DTSTAMP:20260425T154812
CREATED:20241003T162538Z
LAST-MODIFIED:20241004T124919Z
UID:1424-1729018800-1729024200@newparadigmnavigators.community
SUMMARY:October Salon
DESCRIPTION:[ycd_countdown id=”765″][/ycd_countdown] \n\n\n\n\n\n\n\n\n\nJoin us for our monthly salon this October! Topics and guest TBD. This is a great opportunity to explore profound insights\, share your perspectives\, and connect with like-minded individuals in our community! Whether familiar with the topic or not\, there will be something valuable for everyone. We really want to hear from you! \n\n\n\nThe New Paradigm Navigators monthly salon occurs every third Tuesday of the month\, at 7:00 PM UK time. \n\n\n\nEDIT: There was a mistake with the communication of this event. It will happen on the third Tuesday\, October 15. \n\n\n\nRSVP for the Zoom link!
URL:https://newparadigmnavigators.community/event/october-salon/
CATEGORIES:Salon
ATTACH;FMTTYPE=image/webp:https://newparadigmnavigators.community/wp-content/uploads/2024/07/DALL·E-2024-07-27-14.22.29-A-16_9-landscape-image-capturing-the-feeling-of-a-yoga_wellness-circle-a-gathering-of-soulful-people-connecting-deeply-with-themselves-and-the-univ.webp
END:VEVENT
BEGIN:VEVENT
DTSTART;TZID=Europe/London:20240917T183000
DTEND;TZID=Europe/London:20240917T200000
DTSTAMP:20260425T154812
CREATED:20240520T111657Z
LAST-MODIFIED:20240807T171018Z
UID:744-1726597800-1726603200@newparadigmnavigators.community
SUMMARY:September Salon
DESCRIPTION:[ycd_countdown id=”765″][/ycd_countdown] \n\n\n\n\n\n\n\n\n\nJoin us for our monthly salon this September! Our special guest Filippo Dal Fiore – a social scientist\, SMN member and more – will join us to explore “the new academy or educational system\, towards a science with a heart.” This is a great opportunity to explore profound insights\, share your perspectives\, and connect with like-minded individuals in our community! Whether familiar with the topic or not\, there will be something valuable for everyone. We really want to hear from you! \n\n\n\nThe New Paradigm Navigators monthly salon occurs every third Tuesday of the month\, at 6:30 PM UK time. We will not be hosting one in August.
URL:https://newparadigmnavigators.community/event/september-salon/
CATEGORIES:Salon
ATTACH;FMTTYPE=image/webp:https://newparadigmnavigators.community/wp-content/uploads/2024/05/DALL·E-2024-07-27-14.22.55-A-16_9-landscape-image-capturing-the-feeling-of-a-discussion-circle-a-gathering-of-soulful-people-pondering-philosophical-topics.-The-scene-features-.webp
ORGANIZER;CN="New Paradigm Navigators":MAILTO:team@newparadigmnavigators.community
END:VEVENT
BEGIN:VEVENT
DTSTART;TZID=Europe/London:20240716T183000
DTEND;TZID=Europe/London:20240716T200000
DTSTAMP:20260425T154812
CREATED:20240520T111437Z
LAST-MODIFIED:20240713T223402Z
UID:740-1721154600-1721160000@newparadigmnavigators.community
SUMMARY:July Salon
DESCRIPTION:[ycd_countdown id=”765″][/ycd_countdown] \n\n\n\n\nJoin us for our monthly salon this July 16th where we will reflect on our recent Symposium. What a wonderful weekend that was! Bring your favorite bits and ideas to bounce and enchant with. We will decompress our side of things\, and we want to hear your opinions and ideas! If you purchased a ticket and missed at least some of the event\, check out the recordings sent to your email! For those who did not purchase a ticket\, fret not\, we are still selling tickets to access the videos. \nThe New Paradigm Navigators monthly salon occurs every third Tuesday of the month\, at 6:30 PM UK time. \n\n\n\n\n\n\n\n\n 
URL:https://newparadigmnavigators.community/event/july-salon/
LOCATION:Zoom Video Conference
CATEGORIES:Salon
ORGANIZER;CN="New Paradigm Navigators":MAILTO:team@newparadigmnavigators.community
END:VEVENT
BEGIN:VEVENT
DTSTART;TZID=Europe/London:20240618T183000
DTEND;TZID=Europe/London:20240618T200000
DTSTAMP:20260425T154812
CREATED:20240517T121555Z
LAST-MODIFIED:20240521T192443Z
UID:583-1718735400-1718740800@newparadigmnavigators.community
SUMMARY:June Salon
DESCRIPTION:[ycd_countdown id=”765″][/ycd_countdown]\n\n\n\n\nJoin us for our monthly salon this June! Topic and guests to be determined. This is a great opportunity to explore profound insights\, share your perspectives\, and connect with like-minded individuals in our community! Whether familiar with the topic or not\, there will be something valuable for everyone. We really want to hear from you! \nThe New Paradigm Navigators monthly salon occurs every third Tuesday of the month\, at 6:30 PM UK time. \n\n\n\n\n\n\n\n\n 
URL:https://newparadigmnavigators.community/event/june-salon/
LOCATION:Zoom Video Conference
CATEGORIES:Salon
ORGANIZER;CN="New Paradigm Navigators":MAILTO:team@newparadigmnavigators.community
END:VEVENT
BEGIN:VEVENT
DTSTART;TZID=Europe/London:20240521T183000
DTEND;TZID=Europe/London:20240521T200000
DTSTAMP:20260425T154812
CREATED:20240517T121410Z
LAST-MODIFIED:20240521T155652Z
UID:580-1716316200-1716321600@newparadigmnavigators.community
SUMMARY:May Salon
DESCRIPTION:[ycd_countdown id=”765″][/ycd_countdown]\n\n\n\n\nThis special gathering will feature enlightening discussions led by Remo\, Arabella\, and other remarkable speakers on the theme of the Divine Feminine. This is a great opportunity to explore profound insights\, share your perspective on the matter\, and connect with like-minded individuals in our community! Whether familiar with this concept or not\, there will be something valuable for everyone. \nThe New Paradigm Navigators monthly salon occurs every third Tuesday of the month\, at 6:30 PM UK time. \n\n\n\n\n\n\n 
URL:https://newparadigmnavigators.community/event/may-salon/
LOCATION:Zoom Video Conference
CATEGORIES:Salon
ORGANIZER;CN="New Paradigm Navigators":MAILTO:team@newparadigmnavigators.community
END:VEVENT
END:VCALENDAR